BEGIN:VCALENDAR
VERSION:2.0
PRODID:-//jEvents 2.0 for Joomla//EN
CALSCALE:GREGORIAN
METHOD:PUBLISH
BEGIN:VTIMEZONE
TZID:Europe/Berlin
BEGIN:STANDARD
DTSTART:20301107T000000
RDATE:20310330T030000
TZOFFSETFROM:+0200
TZOFFSETTO:+0100
TZNAME:Europe/Berlin CET
END:STANDARD
END:VTIMEZONE
BEGIN:VEVENT
UID:85e57a3ff3b675268c87164553617978
CATEGORIES:Geburtstage
CREATED:20190628T151325
SUMMARY:Bloier Daniel
DESCRIPTION;ENCODING=QUOTED-PRINTABLE:\n\n\n\n\n08.11.1988\n
X-COLOR:#286b0a
DTSTAMP:20260424T175009Z
DTSTART;TZID=Europe/Berlin;VALUE=DATE:20311108
DTEND;TZID=Europe/Berlin;VALUE=DATE:20311109
SEQUENCE:0
TRANSP:OPAQUE
END:VEVENT
END:VCALENDAR