BEGIN:VCALENDAR
VERSION:2.0
PRODID:-//jEvents 2.0 for Joomla//EN
CALSCALE:GREGORIAN
METHOD:PUBLISH
BEGIN:VTIMEZONE
TZID:Europe/Berlin
END:VTIMEZONE
BEGIN:VEVENT
UID:3a75c866d1596f631e49e76f27dddcae
CATEGORIES:Geburtstage
CREATED:20190628T162004
SUMMARY:Stenger André
DESCRIPTION;ENCODING=QUOTED-PRINTABLE:\n\n\n\n\n09.10.1973\n
X-COLOR:#095204
DTSTAMP:20260425T170024Z
DTSTART;TZID=Europe/Berlin;VALUE=DATE:20331009
DTEND;TZID=Europe/Berlin;VALUE=DATE:20331010
SEQUENCE:0
TRANSP:OPAQUE
END:VEVENT
END:VCALENDAR