BEGIN:VCALENDAR
VERSION:2.0
PRODID:-//jEvents 2.0 for Joomla//EN
CALSCALE:GREGORIAN
METHOD:PUBLISH
BEGIN:VTIMEZONE
TZID:Europe/Berlin
END:VTIMEZONE
BEGIN:VEVENT
UID:e5025396ca6b372870281bf79d14ef99
CATEGORIES:Geburtstage
CREATED:20190628T154947
SUMMARY:Krautwald Sebastian
DESCRIPTION;ENCODING=QUOTED-PRINTABLE:\n\n\n\n\n30.10.1991\n
X-COLOR:#155402
DTSTAMP:20260424T174920Z
DTSTART;TZID=Europe/Berlin:20331030T000000
DTEND;TZID=Europe/Berlin:20331030T225959
SEQUENCE:0
TRANSP:OPAQUE
END:VEVENT
END:VCALENDAR